BEGIN:VCALENDAR
VERSION:2.0
PRODID:-//WIR - in Harmonie mit der Natur - ECPv6.15.19//NONSGML v1.0//EN
CALSCALE:GREGORIAN
METHOD:PUBLISH
X-WR-CALNAME:WIR - in Harmonie mit der Natur
X-ORIGINAL-URL:https://www.wir-in-harmonie.at
X-WR-CALDESC:Veranstaltungen für WIR - in Harmonie mit der Natur
REFRESH-INTERVAL;VALUE=DURATION:PT1H
X-Robots-Tag:noindex
X-PUBLISHED-TTL:PT1H
BEGIN:VTIMEZONE
TZID:Europe/Vienna
BEGIN:DAYLIGHT
TZOFFSETFROM:+0100
TZOFFSETTO:+0200
TZNAME:CEST
DTSTART:20240331T010000
END:DAYLIGHT
BEGIN:STANDARD
TZOFFSETFROM:+0200
TZOFFSETTO:+0100
TZNAME:CET
DTSTART:20241027T010000
END:STANDARD
BEGIN:DAYLIGHT
TZOFFSETFROM:+0100
TZOFFSETTO:+0200
TZNAME:CEST
DTSTART:20250330T010000
END:DAYLIGHT
BEGIN:STANDARD
TZOFFSETFROM:+0200
TZOFFSETTO:+0100
TZNAME:CET
DTSTART:20251026T010000
END:STANDARD
BEGIN:DAYLIGHT
TZOFFSETFROM:+0100
TZOFFSETTO:+0200
TZNAME:CEST
DTSTART:20260329T010000
END:DAYLIGHT
BEGIN:STANDARD
TZOFFSETFROM:+0200
TZOFFSETTO:+0100
TZNAME:CET
DTSTART:20261025T010000
END:STANDARD
END:VTIMEZONE
BEGIN:VEVENT
DTSTART;TZID=Europe/Vienna:20250308T160000
DTEND;TZID=Europe/Vienna:20250308T190000
DTSTAMP:20260420T154939
CREATED:20250218T072636Z
LAST-MODIFIED:20250219T113524Z
UID:1977-1741449600-1741460400@www.wir-in-harmonie.at
SUMMARY:Meditation
DESCRIPTION:Jeden zweiten Freitag im Monat\, ab 16.00 Uhr.\nDauer: insgesamt ca. 3 Std.\nFreiwillige Spende \n 
URL:https://www.wir-in-harmonie.at/event/meditation-4/
LOCATION:WIR in Harmonie mit der Natur\, Obereck 45\, St. Johann am Walde\, Oberösterreich\, 4542\, Austria
CATEGORIES:Workshop
ATTACH;FMTTYPE=image/jpeg:https://www.wir-in-harmonie.at/wp-content/uploads/2023/07/meditation-3480815_1280.jpg
ORGANIZER;CN="WIR in Harmonie mit der Natur":MAILTO:gertraud.gerlach@wir-in-harmonie.at
END:VEVENT
END:VCALENDAR